Package: MsFeatures Version: 1.15.0 Command: /home/biocbuild/bbs-3.21-bioc/R/bin/R CMD INSTALL MsFeatures StartedAt: 2025-02-03 15:30:42 -0500 (Mon, 03 Feb 2025) EndedAt: 2025-02-03 15:31:02 -0500 (Mon, 03 Feb 2025) EllapsedTime: 20.3 seconds RetCode: 0 Status: OK