Package: MsFeatures Version: 1.15.0 Command: chmod a+r MsFeatures -R && E:\biocbuild\bbs-3.21-bioc\R\bin\R.exe CMD build --keep-empty-dirs --no-resave-data MsFeatures StartedAt: 2025-02-09 20:07:22 -0500 (Sun, 09 Feb 2025) EndedAt: 2025-02-09 20:08:32 -0500 (Sun, 09 Feb 2025) EllapsedTime: 70.6 seconds RetCode: 0 Status: OK PackageFile: MsFeatures_1.15.0.tar.gz PackageFileSize: 841.8 KiB