Package: MsFeatures Version: 1.15.0 Command: E:\biocbuild\bbs-3.21-bioc\R\bin\R.exe CMD check --no-multiarch --install=check:MsFeatures.install-out.txt --library=E:\biocbuild\bbs-3.21-bioc\R\library --no-vignettes --timings MsFeatures_1.15.0.tar.gz StartedAt: 2025-02-10 03:17:15 -0500 (Mon, 10 Feb 2025) EndedAt: 2025-02-10 03:20:16 -0500 (Mon, 10 Feb 2025) EllapsedTime: 180.4 seconds RetCode: 0 Status: OK CheckDir: MsFeatures.Rcheck Warnings: 0