Package: MsQuality Version: 1.7.1 Command: /home/biocbuild/R/R/bin/R CMD INSTALL MsQuality StartedAt: 2025-01-29 20:13:44 -0000 (Wed, 29 Jan 2025) EndedAt: 2025-01-29 20:14:33 -0000 (Wed, 29 Jan 2025) EllapsedTime: 48.3 seconds RetCode: 0 Status: OK