Package: MsQuality Version: 1.7.1 Command: /Library/Frameworks/R.framework/Resources/bin/R CMD check --install=check:MsQuality.install-out.txt --library=/Library/Frameworks/R.framework/Resources/library --no-vignettes --timings MsQuality_1.7.1.tar.gz StartedAt: 2025-02-09 22:10:19 -0500 (Sun, 09 Feb 2025) EndedAt: 2025-02-09 22:17:12 -0500 (Sun, 09 Feb 2025) EllapsedTime: 413.0 seconds RetCode: 0 Status: OK CheckDir: MsQuality.Rcheck Warnings: 0