Package: MsQuality Version: 1.7.1 Command: /home/biocbuild/bbs-3.21-bioc/R/bin/R CMD check --install=check:MsQuality.install-out.txt --library=/home/biocbuild/bbs-3.21-bioc/R/site-library --timings MsQuality_1.7.1.tar.gz StartedAt: 2025-02-10 00:32:39 -0500 (Mon, 10 Feb 2025) EndedAt: 2025-02-10 00:38:59 -0500 (Mon, 10 Feb 2025) EllapsedTime: 380.4 seconds RetCode: 0 Status: OK CheckDir: MsQuality.Rcheck Warnings: 0