Package: MsQuality Version: 1.7.1 Command: /home/biocbuild/bbs-3.21-bioc/R/bin/R CMD INSTALL MsQuality StartedAt: 2025-02-09 15:34:49 -0500 (Sun, 09 Feb 2025) EndedAt: 2025-02-09 15:35:23 -0500 (Sun, 09 Feb 2025) EllapsedTime: 33.5 seconds RetCode: 0 Status: OK