Package: MsQuality Version: 1.7.1 Command: chmod a+r MsQuality -R && E:\biocbuild\bbs-3.21-bioc\R\bin\R.exe CMD build --keep-empty-dirs --no-resave-data MsQuality StartedAt: 2025-02-12 20:15:25 -0500 (Wed, 12 Feb 2025) EndedAt: 2025-02-12 20:18:53 -0500 (Wed, 12 Feb 2025) EllapsedTime: 208.8 seconds RetCode: 0 Status: OK PackageFile: MsQuality_1.7.1.tar.gz PackageFileSize: 4.244 MiB