Package: MultiDataSet Version: 1.35.0 Command: rm -rf MultiDataSet.buildbin-libdir && mkdir MultiDataSet.buildbin-libdir && /Users/biocbuild/BBS/utils/build-universal.sh MultiDataSet_1.35.0.tar.gz /Library/Frameworks/R.framework/Resources/bin/R MultiDataSet.buildbin-libdir StartedAt: 2025-02-09 22:22:55 -0500 (Sun, 09 Feb 2025) EndedAt: 2025-02-09 22:23:06 -0500 (Sun, 09 Feb 2025) EllapsedTime: 11.2 seconds RetCode: 0 Status: OK PackageFile: MultiDataSet_1.35.0.tgz PackageFileSize: 871.2 KiB