Package: MultiDataSet Version: 1.35.0 Command: /Library/Frameworks/R.framework/Resources/bin/R CMD INSTALL MultiDataSet StartedAt: 2025-02-12 15:06:30 -0500 (Wed, 12 Feb 2025) EndedAt: 2025-02-12 15:06:39 -0500 (Wed, 12 Feb 2025) EllapsedTime: 9.8 seconds RetCode: 0 Status: OK