Package: MultiDataSet Version: 1.35.0 Command: /home/biocbuild/bbs-3.21-bioc/R/bin/R CMD build --keep-empty-dirs --no-resave-data MultiDataSet StartedAt: 2025-02-09 18:20:48 -0500 (Sun, 09 Feb 2025) EndedAt: 2025-02-09 18:21:41 -0500 (Sun, 09 Feb 2025) EllapsedTime: 53.1 seconds RetCode: 0 Status: OK PackageFile: MultiDataSet_1.35.0.tar.gz PackageFileSize: 494.7 KiB