Package: MultiDataSet Version: 1.35.0 Command: chmod a+r MultiDataSet -R && E:\biocbuild\bbs-3.21-bioc\R\bin\R.exe CMD build --keep-empty-dirs --no-resave-data MultiDataSet StartedAt: 2025-02-12 20:18:57 -0500 (Wed, 12 Feb 2025) EndedAt: 2025-02-12 20:20:34 -0500 (Wed, 12 Feb 2025) EllapsedTime: 97.9 seconds RetCode: 0 Status: OK PackageFile: MultiDataSet_1.35.0.tar.gz PackageFileSize: 495.5 KiB