Package: MultiDataSet Version: 1.35.0 Command: E:\biocbuild\bbs-3.21-bioc\R\bin\R.exe CMD check --no-multiarch --install=check:MultiDataSet.install-out.txt --library=E:\biocbuild\bbs-3.21-bioc\R\library --no-vignettes --timings MultiDataSet_1.35.0.tar.gz StartedAt: 2025-02-13 03:36:37 -0500 (Thu, 13 Feb 2025) EndedAt: 2025-02-13 03:40:03 -0500 (Thu, 13 Feb 2025) EllapsedTime: 206.0 seconds RetCode: 0 Status: WARNINGS CheckDir: MultiDataSet.Rcheck Warnings: 1