Package: MultiDataSet Version: 1.35.0 Command: E:\biocbuild\bbs-3.21-bioc\R\bin\R.exe CMD INSTALL MultiDataSet StartedAt: 2025-02-12 16:06:43 -0500 (Wed, 12 Feb 2025) EndedAt: 2025-02-12 16:07:45 -0500 (Wed, 12 Feb 2025) EllapsedTime: 62.0 seconds RetCode: 0 Status: OK