Package: MultiRNAflow Version: 1.5.0 Command: /Library/Frameworks/R.framework/Resources/bin/R CMD check --install=check:MultiRNAflow.install-out.txt --library=/Library/Frameworks/R.framework/Resources/library --no-vignettes --timings MultiRNAflow_1.5.0.tar.gz StartedAt: 2025-02-09 20:21:46 -0500 (Sun, 09 Feb 2025) EndedAt: 2025-02-09 20:25:32 -0500 (Sun, 09 Feb 2025) EllapsedTime: 225.9 seconds RetCode: 0 Status: OK CheckDir: MultiRNAflow.Rcheck Warnings: 0