Package: MultiRNAflow Version: 1.5.0 Command: /Library/Frameworks/R.framework/Resources/bin/R CMD check --install=check:MultiRNAflow.install-out.txt --library=/Library/Frameworks/R.framework/Resources/library --no-vignettes --timings MultiRNAflow_1.5.0.tar.gz StartedAt: 2025-02-09 22:14:11 -0500 (Sun, 09 Feb 2025) EndedAt: 2025-02-09 22:27:05 -0500 (Sun, 09 Feb 2025) EllapsedTime: 773.6 seconds RetCode: 0 Status: OK CheckDir: MultiRNAflow.Rcheck Warnings: 0