Package: MultiRNAflow Version: 1.5.0 Command: /Library/Frameworks/R.framework/Resources/bin/R CMD INSTALL MultiRNAflow StartedAt: 2025-02-09 15:44:14 -0500 (Sun, 09 Feb 2025) EndedAt: 2025-02-09 15:45:30 -0500 (Sun, 09 Feb 2025) EllapsedTime: 76.2 seconds RetCode: 0 Status: OK