Package: MultiRNAflow Version: 1.5.0 Command: /home/biocbuild/bbs-3.21-bioc/R/bin/R CMD build --keep-empty-dirs --no-resave-data MultiRNAflow StartedAt: 2025-02-12 18:16:54 -0500 (Wed, 12 Feb 2025) EndedAt: 2025-02-12 18:22:01 -0500 (Wed, 12 Feb 2025) EllapsedTime: 307.3 seconds RetCode: 0 Status: OK PackageFile: MultiRNAflow_1.5.0.tar.gz PackageFileSize: 3.143 MiB