Package: MultiRNAflow Version: 1.5.0 Command: /home/biocbuild/bbs-3.21-bioc/R/bin/R CMD INSTALL MultiRNAflow StartedAt: 2025-02-09 15:21:10 -0500 (Sun, 09 Feb 2025) EndedAt: 2025-02-09 15:21:54 -0500 (Sun, 09 Feb 2025) EllapsedTime: 44.5 seconds RetCode: 0 Status: OK