Package: MultiRNAflow Version: 1.5.0 Command: E:\biocbuild\bbs-3.21-bioc\R\bin\R.exe CMD check --no-multiarch --install=check:MultiRNAflow.install-out.txt --library=E:\biocbuild\bbs-3.21-bioc\R\library --no-vignettes --timings MultiRNAflow_1.5.0.tar.gz StartedAt: 2025-02-13 03:37:30 -0500 (Thu, 13 Feb 2025) EndedAt: 2025-02-13 03:46:57 -0500 (Thu, 13 Feb 2025) EllapsedTime: 567.1 seconds RetCode: 0 Status: OK CheckDir: MultiRNAflow.Rcheck Warnings: 0