Package: MungeSumstats Version: 1.15.12 Command: rm -rf MungeSumstats.buildbin-libdir && mkdir MungeSumstats.buildbin-libdir && /Users/biocbuild/BBS/utils/build-universal.sh MungeSumstats_1.15.12.tar.gz /Library/Frameworks/R.framework/Resources/bin/R MungeSumstats.buildbin-libdir StartedAt: 2025-02-13 00:48:13 -0500 (Thu, 13 Feb 2025) EndedAt: 2025-02-13 00:49:14 -0500 (Thu, 13 Feb 2025) EllapsedTime: 61.3 seconds RetCode: 0 Status: OK PackageFile: MungeSumstats_1.15.12.tgz PackageFileSize: 2.741 MiB