Package: MungeSumstats Version: 1.15.12 Command: /Library/Frameworks/R.framework/Resources/bin/R CMD build --keep-empty-dirs --no-resave-data MungeSumstats StartedAt: 2025-02-12 17:35:38 -0500 (Wed, 12 Feb 2025) EndedAt: 2025-02-12 17:37:19 -0500 (Wed, 12 Feb 2025) EllapsedTime: 100.5 seconds RetCode: 0 Status: OK PackageFile: MungeSumstats_1.15.12.tar.gz PackageFileSize: 2.368 MiB