Package: MungeSumstats Version: 1.15.12 Command: /Library/Frameworks/R.framework/Resources/bin/R CMD check --install=check:MungeSumstats.install-out.txt --library=/Library/Frameworks/R.framework/Resources/library --no-vignettes --timings MungeSumstats_1.15.12.tar.gz StartedAt: 2025-02-09 22:15:30 -0500 (Sun, 09 Feb 2025) EndedAt: 2025-02-09 22:37:04 -0500 (Sun, 09 Feb 2025) EllapsedTime: 1293.8 seconds RetCode: 0 Status: OK CheckDir: MungeSumstats.Rcheck Warnings: 0