Package: MungeSumstats Version: 1.15.12 Command: rm -rf MungeSumstats.buildbin-libdir && mkdir MungeSumstats.buildbin-libdir && E:\biocbuild\bbs-3.21-bioc\R\bin\R.exe CMD INSTALL --build --library=MungeSumstats.buildbin-libdir MungeSumstats_1.15.12.tar.gz StartedAt: 2025-02-10 08:15:18 -0500 (Mon, 10 Feb 2025) EndedAt: 2025-02-10 08:17:08 -0500 (Mon, 10 Feb 2025) EllapsedTime: 110.1 seconds RetCode: 0 Status: OK PackageFile: MungeSumstats_1.15.12.zip PackageFileSize: 2.75 MiB