Package: MungeSumstats Version: 1.15.12 Command: E:\biocbuild\bbs-3.21-bioc\R\bin\R.exe CMD INSTALL MungeSumstats StartedAt: 2025-02-09 16:39:19 -0500 (Sun, 09 Feb 2025) EndedAt: 2025-02-09 16:41:21 -0500 (Sun, 09 Feb 2025) EllapsedTime: 121.6 seconds RetCode: 0 Status: OK