Package: NBAMSeq Version: 1.23.0 Command: /Library/Frameworks/R.framework/Resources/bin/R CMD INSTALL NBAMSeq StartedAt: 2025-02-09 15:21:06 -0500 (Sun, 09 Feb 2025) EndedAt: 2025-02-09 15:21:18 -0500 (Sun, 09 Feb 2025) EllapsedTime: 12.1 seconds RetCode: 0 Status: OK