Package: NBAMSeq Version: 1.23.0 Command: /Library/Frameworks/R.framework/Resources/bin/R CMD build --keep-empty-dirs --no-resave-data NBAMSeq StartedAt: 2025-02-12 17:36:44 -0500 (Wed, 12 Feb 2025) EndedAt: 2025-02-12 17:37:47 -0500 (Wed, 12 Feb 2025) EllapsedTime: 62.9 seconds RetCode: 0 Status: OK PackageFile: NBAMSeq_1.23.0.tar.gz PackageFileSize: 350.3 KiB