Package: NBAMSeq Version: 1.23.0 Command: /home/biocbuild/bbs-3.21-bioc/R/bin/R CMD INSTALL NBAMSeq StartedAt: 2025-02-09 15:35:24 -0500 (Sun, 09 Feb 2025) EndedAt: 2025-02-09 15:35:53 -0500 (Sun, 09 Feb 2025) EllapsedTime: 29.1 seconds RetCode: 0 Status: OK