Package: NBAMSeq Version: 1.23.0 Command: chmod a+r NBAMSeq -R && E:\biocbuild\bbs-3.21-bioc\R\bin\R.exe CMD build --keep-empty-dirs --no-resave-data NBAMSeq StartedAt: 2025-02-09 20:18:13 -0500 (Sun, 09 Feb 2025) EndedAt: 2025-02-09 20:19:57 -0500 (Sun, 09 Feb 2025) EllapsedTime: 103.9 seconds RetCode: 0 Status: OK PackageFile: NBAMSeq_1.23.0.tar.gz PackageFileSize: 239.9 KiB