Package: NBAMSeq Version: 1.23.0 Command: E:\biocbuild\bbs-3.21-bioc\R\bin\R.exe CMD check --no-multiarch --install=check:NBAMSeq.install-out.txt --library=E:\biocbuild\bbs-3.21-bioc\R\library --no-vignettes --timings NBAMSeq_1.23.0.tar.gz StartedAt: 2025-02-10 03:33:42 -0500 (Mon, 10 Feb 2025) EndedAt: 2025-02-10 03:37:53 -0500 (Mon, 10 Feb 2025) EllapsedTime: 251.1 seconds RetCode: 0 Status: OK CheckDir: NBAMSeq.Rcheck Warnings: 0