Package: NTW Version: 1.57.0 Command: rm -rf NTW.buildbin-libdir && mkdir NTW.buildbin-libdir && /Users/biocbuild/BBS/utils/build-universal.sh NTW_1.57.0.tar.gz /Library/Frameworks/R.framework/Resources/bin/R NTW.buildbin-libdir StartedAt: 2025-02-09 22:23:54 -0500 (Sun, 09 Feb 2025) EndedAt: 2025-02-09 22:23:56 -0500 (Sun, 09 Feb 2025) EllapsedTime: 2.1 seconds RetCode: 0 Status: OK PackageFile: NTW_1.57.0.tgz PackageFileSize: 620.9 KiB