Package: NTW Version: 1.57.0 Command: /Library/Frameworks/R.framework/Resources/bin/R CMD build --keep-empty-dirs --no-resave-data NTW StartedAt: 2025-02-12 17:08:32 -0500 (Wed, 12 Feb 2025) EndedAt: 2025-02-12 17:08:38 -0500 (Wed, 12 Feb 2025) EllapsedTime: 5.1 seconds RetCode: 0 Status: OK PackageFile: NTW_1.57.0.tar.gz PackageFileSize: 872.1 KiB