Package: NTW Version: 1.57.0 Command: /Library/Frameworks/R.framework/Resources/bin/R CMD check --install=check:NTW.install-out.txt --library=/Library/Frameworks/R.framework/Resources/library --no-vignettes --timings NTW_1.57.0.tar.gz StartedAt: 2025-02-09 22:22:30 -0500 (Sun, 09 Feb 2025) EndedAt: 2025-02-09 22:23:04 -0500 (Sun, 09 Feb 2025) EllapsedTime: 34.5 seconds RetCode: 0 Status: WARNINGS CheckDir: NTW.Rcheck Warnings: 1