Package: NanoMethViz Version: 3.3.3 Command: /Library/Frameworks/R.framework/Resources/bin/R CMD build --keep-empty-dirs --no-resave-data NanoMethViz StartedAt: 2025-02-09 17:06:14 -0500 (Sun, 09 Feb 2025) EndedAt: 2025-02-09 17:07:24 -0500 (Sun, 09 Feb 2025) EllapsedTime: 69.8 seconds RetCode: 0 Status: OK PackageFile: NanoMethViz_3.3.3.tar.gz PackageFileSize: 8.436 MiB