Package: NanoMethViz Version: 3.3.3 Command: /Library/Frameworks/R.framework/Resources/bin/R CMD check --install=check:NanoMethViz.install-out.txt --library=/Library/Frameworks/R.framework/Resources/library --no-vignettes --timings NanoMethViz_3.3.3.tar.gz StartedAt: 2025-02-12 20:28:04 -0500 (Wed, 12 Feb 2025) EndedAt: 2025-02-12 20:31:57 -0500 (Wed, 12 Feb 2025) EllapsedTime: 233.1 seconds RetCode: 0 Status: OK CheckDir: NanoMethViz.Rcheck Warnings: 0