Package: NanoMethViz Version: 3.3.3 Command: /Library/Frameworks/R.framework/Resources/bin/R CMD INSTALL NanoMethViz StartedAt: 2025-02-09 15:24:47 -0500 (Sun, 09 Feb 2025) EndedAt: 2025-02-09 15:25:11 -0500 (Sun, 09 Feb 2025) EllapsedTime: 24.3 seconds RetCode: 0 Status: OK