Package: NanoMethViz Version: 3.3.3 Command: rm -rf NanoMethViz.buildbin-libdir && mkdir NanoMethViz.buildbin-libdir && /Users/biocbuild/BBS/utils/build-universal.sh NanoMethViz_3.3.3.tar.gz /Library/Frameworks/R.framework/Resources/bin/R NanoMethViz.buildbin-libdir StartedAt: 2025-02-10 01:05:33 -0500 (Mon, 10 Feb 2025) EndedAt: 2025-02-10 01:07:04 -0500 (Mon, 10 Feb 2025) EllapsedTime: 91.1 seconds RetCode: 0 Status: OK PackageFile: NanoMethViz_3.3.3.tgz PackageFileSize: 9.148 MiB