Package: NanoMethViz Version: 3.3.3 Command: /Library/Frameworks/R.framework/Resources/bin/R CMD INSTALL NanoMethViz StartedAt: 2025-02-09 15:39:33 -0500 (Sun, 09 Feb 2025) EndedAt: 2025-02-09 15:40:58 -0500 (Sun, 09 Feb 2025) EllapsedTime: 85.2 seconds RetCode: 0 Status: OK