Package: NanoMethViz Version: 3.3.3 Command: /home/biocbuild/bbs-3.21-bioc/R/bin/R CMD check --install=check:NanoMethViz.install-out.txt --library=/home/biocbuild/bbs-3.21-bioc/R/site-library --timings NanoMethViz_3.3.3.tar.gz StartedAt: 2025-02-10 00:42:08 -0500 (Mon, 10 Feb 2025) EndedAt: 2025-02-10 00:54:01 -0500 (Mon, 10 Feb 2025) EllapsedTime: 712.3 seconds RetCode: 0 Status: OK CheckDir: NanoMethViz.Rcheck Warnings: 0