Package: NanoStringDiff Version: 1.37.0 Command: /Library/Frameworks/R.framework/Resources/bin/R CMD INSTALL NanoStringDiff StartedAt: 2025-02-09 15:02:18 -0500 (Sun, 09 Feb 2025) EndedAt: 2025-02-09 15:02:26 -0500 (Sun, 09 Feb 2025) EllapsedTime: 7.5 seconds RetCode: 0 Status: OK