Package: NanoStringDiff Version: 1.37.0 Command: /home/biocbuild/R/R/bin/R CMD INSTALL NanoStringDiff StartedAt: 2025-01-29 19:32:55 -0000 (Wed, 29 Jan 2025) EndedAt: 2025-01-29 19:33:17 -0000 (Wed, 29 Jan 2025) EllapsedTime: 21.6 seconds RetCode: 0 Status: OK