Package: NanoStringDiff Version: 1.37.0 Command: /Library/Frameworks/R.framework/Resources/bin/R CMD INSTALL NanoStringDiff StartedAt: 2025-02-09 15:05:40 -0500 (Sun, 09 Feb 2025) EndedAt: 2025-02-09 15:06:05 -0500 (Sun, 09 Feb 2025) EllapsedTime: 25.5 seconds RetCode: 0 Status: OK