Package: NanoStringDiff Version: 1.37.0 Command: /home/biocbuild/bbs-3.21-bioc/R/bin/R CMD build --keep-empty-dirs --no-resave-data NanoStringDiff StartedAt: 2025-02-04 18:20:32 -0500 (Tue, 04 Feb 2025) EndedAt: 2025-02-04 18:20:51 -0500 (Tue, 04 Feb 2025) EllapsedTime: 19.0 seconds RetCode: 0 Status: OK PackageFile: NanoStringDiff_1.37.0.tar.gz PackageFileSize: 417.4 KiB