Package: NanoStringDiff Version: 1.37.0 Command: /home/biocbuild/bbs-3.21-bioc/R/bin/R CMD check --install=check:NanoStringDiff.install-out.txt --library=/home/biocbuild/bbs-3.21-bioc/R/site-library --timings NanoStringDiff_1.37.0.tar.gz StartedAt: 2025-02-05 00:49:29 -0500 (Wed, 05 Feb 2025) EndedAt: 2025-02-05 00:51:30 -0500 (Wed, 05 Feb 2025) EllapsedTime: 121.4 seconds RetCode: 0 Status: WARNINGS CheckDir: NanoStringDiff.Rcheck Warnings: 1