Package: NanoStringDiff Version: 1.37.0 Command: /home/biocbuild/bbs-3.21-bioc/R/bin/R CMD INSTALL NanoStringDiff StartedAt: 2025-02-04 15:13:26 -0500 (Tue, 04 Feb 2025) EndedAt: 2025-02-04 15:13:36 -0500 (Tue, 04 Feb 2025) EllapsedTime: 9.7 seconds RetCode: 0 Status: OK