Package: NanoStringDiff Version: 1.37.0 Command: chmod a+r NanoStringDiff -R && E:\biocbuild\bbs-3.21-bioc\R\bin\R.exe CMD build --keep-empty-dirs --no-resave-data NanoStringDiff StartedAt: 2025-02-03 20:29:59 -0500 (Mon, 03 Feb 2025) EndedAt: 2025-02-03 20:30:36 -0500 (Mon, 03 Feb 2025) EllapsedTime: 36.7 seconds RetCode: 0 Status: OK PackageFile: NanoStringDiff_1.37.0.tar.gz PackageFileSize: 280.1 KiB