Package: NanoStringDiff Version: 1.37.0 Command: E:\biocbuild\bbs-3.21-bioc\R\bin\R.exe CMD INSTALL NanoStringDiff StartedAt: 2025-02-03 15:38:17 -0500 (Mon, 03 Feb 2025) EndedAt: 2025-02-03 15:39:09 -0500 (Mon, 03 Feb 2025) EllapsedTime: 51.4 seconds RetCode: 0 Status: OK