Package: NanoStringNCTools Version: 1.15.0 Command: /Library/Frameworks/R.framework/Resources/bin/R CMD build --keep-empty-dirs --no-resave-data NanoStringNCTools StartedAt: 2025-02-09 17:06:19 -0500 (Sun, 09 Feb 2025) EndedAt: 2025-02-09 17:06:31 -0500 (Sun, 09 Feb 2025) EllapsedTime: 12.1 seconds RetCode: 0 Status: OK PackageFile: NanoStringNCTools_1.15.0.tar.gz PackageFileSize: 377.1 KiB