Package: NanoStringNCTools Version: 1.15.0 Command: /Library/Frameworks/R.framework/Resources/bin/R CMD INSTALL NanoStringNCTools StartedAt: 2025-02-03 15:49:47 -0500 (Mon, 03 Feb 2025) EndedAt: 2025-02-03 15:49:53 -0500 (Mon, 03 Feb 2025) EllapsedTime: 6.3 seconds RetCode: 0 Status: OK