Package: NanoStringNCTools Version: 1.15.0 Command: /home/biocbuild/R/R/bin/R CMD build --keep-empty-dirs --no-resave-data NanoStringNCTools StartedAt: 2025-01-29 00:48:04 -0000 (Wed, 29 Jan 2025) EndedAt: 2025-01-29 00:48:44 -0000 (Wed, 29 Jan 2025) EllapsedTime: 40.0 seconds RetCode: 0 Status: OK PackageFile: NanoStringNCTools_1.15.0.tar.gz PackageFileSize: 315.9 KiB